BEGIN:VCALENDAR
VERSION:2.0
PRODID:-//Sven Wildöer - Klavierzauber - ECPv5.16.3//NONSGML v1.0//EN
CALSCALE:GREGORIAN
METHOD:PUBLISH
X-WR-CALNAME:Sven Wildöer - Klavierzauber
X-ORIGINAL-URL:https://klavier-zauber.com
X-WR-CALDESC:Veranstaltungen für Sven Wildöer - Klavierzauber
BEGIN:VTIMEZONE
TZID:Europe/Berlin
BEGIN:DAYLIGHT
TZOFFSETFROM:+0100
TZOFFSETTO:+0200
TZNAME:CEST
DTSTART:20160327T010000
END:DAYLIGHT
BEGIN:STANDARD
TZOFFSETFROM:+0200
TZOFFSETTO:+0100
TZNAME:CET
DTSTART:20161030T010000
END:STANDARD
END:VTIMEZONE
BEGIN:VEVENT
DTSTART;TZID=Europe/Berlin:20160129T080000
DTEND;TZID=Europe/Berlin:20160129T170000
DTSTAMP:20260422T130715
CREATED:20160115T203007Z
LAST-MODIFIED:20160115T203656Z
UID:528-1454054400-1454086800@klavier-zauber.com
SUMMARY:Köln – Latenightshopping 2013
DESCRIPTION:
URL:https://klavier-zauber.com/event/koeln-latenightshopping-2013/
LOCATION:Köln
CATEGORIES:Events 2013
ATTACH;FMTTYPE=image/jpeg:https://klavier-zauber.com/wp-content/uploads/2016/01/klavierzauber_020_2013.jpg
END:VEVENT
END:VCALENDAR